Package: AnVILGCP
Version: 1.1.3
Command: E:\biocbuild\bbs-3.21-bioc\R\bin\R.exe CMD INSTALL AnVILGCP
StartedAt: 2025-02-19 15:30:46 -0500 (Wed, 19 Feb 2025)
EndedAt: 2025-02-19 15:31:16 -0500 (Wed, 19 Feb 2025)
EllapsedTime: 30.1 seconds
RetCode: 0
Status: OK