Package: AnVILGCP
Version: 1.1.3
Command: E:\biocbuild\bbs-3.21-bioc\R\bin\R.exe CMD check --no-multiarch --install=check:AnVILGCP.install-out.txt --library=E:\biocbuild\bbs-3.21-bioc\R\library --no-vignettes --timings AnVILGCP_1.1.3.tar.gz
StartedAt: 2025-02-19 22:38:21 -0500 (Wed, 19 Feb 2025)
EndedAt: 2025-02-19 22:39:15 -0500 (Wed, 19 Feb 2025)
EllapsedTime: 54.0 seconds
RetCode: 0
Status: OK
CheckDir: AnVILGCP.Rcheck
Warnings: 0