Package: AnVILGCP Version: 1.1.3 Command: chmod a+r AnVILGCP -R && E:\biocbuild\bbs-3.21-bioc\R\bin\R.exe CMD build --keep-empty-dirs --no-resave-data AnVILGCP StartedAt: 2025-02-19 17:15:07 -0500 (Wed, 19 Feb 2025) EndedAt: 2025-02-19 17:15:56 -0500 (Wed, 19 Feb 2025) EllapsedTime: 48.3 seconds RetCode: 0 Status: OK PackageFile: AnVILGCP_1.1.3.tar.gz PackageFileSize: 416.6 <A href="http://en.wikipedia.org/wiki/KiB" target="_blank">KiB</A>