Package: AnVILGCP Version: 1.1.3 Command: rm -rf AnVILGCP.buildbin-libdir && mkdir AnVILGCP.buildbin-libdir && E:\biocbuild\bbs-3.21-bioc\R\bin\R.exe CMD INSTALL --build --library=AnVILGCP.buildbin-libdir AnVILGCP_1.1.3.tar.gz StartedAt: 2025-02-20 07:15:48 -0500 (Thu, 20 Feb 2025) EndedAt: 2025-02-20 07:16:20 -0500 (Thu, 20 Feb 2025) EllapsedTime: 32.1 seconds RetCode: 0 Status: OK PackageFile: AnVILGCP_1.1.3.zip PackageFileSize: 472.1 <A href="http://en.wikipedia.org/wiki/KiB" target="_blank">KiB</A>