Package: AnVILGCP Version: 1.1.3 Command: /home/biocbuild/bbs-3.21-bioc/R/bin/R CMD INSTALL AnVILGCP StartedAt: 2025-02-04 15:08:00 -0500 (Tue, 04 Feb 2025) EndedAt: 2025-02-04 15:08:07 -0500 (Tue, 04 Feb 2025) EllapsedTime: 6.8 seconds RetCode: 0 Status: OK