Package: AnVILGCP Version: 1.1.3 Command: /home/biocbuild/bbs-3.21-bioc/R/bin/R CMD check --install=check:AnVILGCP.install-out.txt --library=/home/biocbuild/bbs-3.21-bioc/R/site-library --timings AnVILGCP_1.1.3.tar.gz StartedAt: 2025-02-04 19:59:21 -0500 (Tue, 04 Feb 2025) EndedAt: 2025-02-04 19:59:55 -0500 (Tue, 04 Feb 2025) EllapsedTime: 34.0 seconds RetCode: 0 Status: OK CheckDir: AnVILGCP.Rcheck Warnings: 0