Package: AnVILGCP
Version: 1.1.3
Command: /Library/Frameworks/R.framework/Resources/bin/R CMD check --install=check:AnVILGCP.install-out.txt --library=/Library/Frameworks/R.framework/Resources/library --no-vignettes --timings AnVILGCP_1.1.3.tar.gz
StartedAt: 2025-02-19 18:51:24 -0500 (Wed, 19 Feb 2025)
EndedAt: 2025-02-19 18:52:14 -0500 (Wed, 19 Feb 2025)
EllapsedTime: 50.0 seconds
RetCode: 0
Status: OK
CheckDir: AnVILGCP.Rcheck
Warnings: 0