Package: AnVILGCP Version: 1.1.3 Command: rm -rf AnVILGCP.buildbin-libdir && mkdir AnVILGCP.buildbin-libdir && /Users/biocbuild/BBS/utils/build-universal.sh AnVILGCP_1.1.3.tar.gz /Library/Frameworks/R.framework/Resources/bin/R AnVILGCP.buildbin-libdir StartedAt: 2025-02-20 00:20:34 -0500 (Thu, 20 Feb 2025) EndedAt: 2025-02-20 00:20:43 -0500 (Thu, 20 Feb 2025) EllapsedTime: 9.3 seconds RetCode: 0 Status: OK PackageFile: AnVILGCP_1.1.3.tgz PackageFileSize: 467.9 <A href="http://en.wikipedia.org/wiki/KiB" target="_blank">KiB</A>