Package: AnVILGCP Version: 1.1.3 Command: /home/biocbuild/R/R/bin/R CMD build --keep-empty-dirs --no-resave-data AnVILGCP StartedAt: 2025-01-29 20:50:55 -0000 (Wed, 29 Jan 2025) EndedAt: 2025-01-29 20:51:06 -0000 (Wed, 29 Jan 2025) EllapsedTime: 11.0 seconds RetCode: 0 Status: OK PackageFile: AnVILGCP_1.1.3.tar.gz PackageFileSize: 441.8 KiB