Package: AlpsNMR
Version: 4.9.0
Command: /home/biocbuild/bbs-3.21-bioc/R/bin/R CMD check --install=check:AlpsNMR.install-out.txt --library=/home/biocbuild/bbs-3.21-bioc/R/site-library --timings AlpsNMR_4.9.0.tar.gz
StartedAt: 2025-02-19 19:54:21 -0500 (Wed, 19 Feb 2025)
EndedAt: 2025-02-19 19:58:50 -0500 (Wed, 19 Feb 2025)
EllapsedTime: 269.4 seconds
RetCode: 0
Status: OK
CheckDir: AlpsNMR.Rcheck
Warnings: 0