Package: AlpsNMR
Version: 4.9.0
Command: /Library/Frameworks/R.framework/Resources/bin/R CMD check --install=check:AlpsNMR.install-out.txt --library=/Library/Frameworks/R.framework/Resources/library --no-vignettes --timings AlpsNMR_4.9.0.tar.gz
StartedAt: 2025-02-19 18:48:40 -0500 (Wed, 19 Feb 2025)
EndedAt: 2025-02-19 18:52:10 -0500 (Wed, 19 Feb 2025)
EllapsedTime: 209.5 seconds
RetCode: 0
Status: OK
CheckDir: AlpsNMR.Rcheck
Warnings: 0