Package: AlpsNMR
Version: 4.9.0
Command: /Library/Frameworks/R.framework/Resources/bin/R CMD build --keep-empty-dirs --no-resave-data AlpsNMR
StartedAt: 2025-02-19 15:51:44 -0500 (Wed, 19 Feb 2025)
EndedAt: 2025-02-19 15:54:06 -0500 (Wed, 19 Feb 2025)
EllapsedTime: 142.2 seconds
RetCode: 0
Status: OK
PackageFile: AlpsNMR_4.9.0.tar.gz
PackageFileSize: 3.698 <A href="http://en.wikipedia.org/wiki/MiB" target="_blank">MiB</A>