Package: AlpsNMR
Version: 4.9.0
Command: rm -rf AlpsNMR.buildbin-libdir && mkdir AlpsNMR.buildbin-libdir && /Users/biocbuild/BBS/utils/build-universal.sh AlpsNMR_4.9.0.tar.gz /Library/Frameworks/R.framework/Resources/bin/R AlpsNMR.buildbin-libdir
StartedAt: 2025-02-20 00:20:08 -0500 (Thu, 20 Feb 2025)
EndedAt: 2025-02-20 00:20:29 -0500 (Thu, 20 Feb 2025)
EllapsedTime: 20.7 seconds
RetCode: 0
Status: OK
PackageFile: AlpsNMR_4.9.0.tgz
PackageFileSize: 4.184 <A href="http://en.wikipedia.org/wiki/MiB" target="_blank">MiB</A>