Package: AlpsNMR Version: 4.9.0 Command: /Library/Frameworks/R.framework/Resources/bin/R CMD INSTALL AlpsNMR StartedAt: 2025-02-19 15:15:18 -0500 (Wed, 19 Feb 2025) EndedAt: 2025-02-19 15:15:23 -0500 (Wed, 19 Feb 2025) EllapsedTime: 4.8 seconds RetCode: 0 Status: OK