Package: ATACCoGAPS
Version: 1.7.1
Command: /home/biocbuild/bbs-3.21-bioc/R/bin/R CMD INSTALL ATACCoGAPS
StartedAt: 2024-10-24 03:31:23 -0400 (Thu, 24 Oct 2024)
EndedAt: 2024-10-24 03:31:24 -0400 (Thu, 24 Oct 2024)
EllapsedTime: 0.8 seconds
RetCode: 1
Status: ERROR