Package: ATACCoGAPS
Version: 1.7.1
Command: /home/biocbuild/bbs-3.21-bioc/R/bin/R CMD build --keep-empty-dirs --no-resave-data ATACCoGAPS
StartedAt: 2024-10-24 03:35:45 -0400 (Thu, 24 Oct 2024)
EndedAt: 2024-10-24 03:35:46 -0400 (Thu, 24 Oct 2024)
EllapsedTime: 1.0 seconds
RetCode: 1
Status: ERROR
PackageFile: None
PackageFileSize: NA