Package: ASSET
Version: 2.25.0
Maintainer: Samsiddhi Bhattacharjee
MaintainerEmail: sb1 at nibmg.ac.in
git_url: https://git.bioconductor.org/packages/ASSET
git_branch: devel
git_last_commit: 081f9f7
git_last_commit_date: 2024-10-29 09:47:35 -0500 (Tue, 29 Oct 2024)