Package: APL
Version: 1.11.2
Maintainer: Clemens Kohl
MaintainerEmail: kohl.clemens at gmail.com
git_url: https://git.bioconductor.org/packages/APL
git_branch: devel
git_last_commit: e04cb82
git_last_commit_date: 2024-11-04 16:20:55 -0500 (Mon, 04 Nov 2024)