Package: APAlyzer Version: 1.21.0 Command: chmod a+r APAlyzer -R && E:\biocbuild\bbs-3.21-bioc\R\bin\R.exe CMD build --keep-empty-dirs --no-resave-data APAlyzer StartedAt: 2025-02-19 17:15:34 -0500 (Wed, 19 Feb 2025) EndedAt: 2025-02-19 17:20:59 -0500 (Wed, 19 Feb 2025) EllapsedTime: 325.4 seconds RetCode: 0 Status: OK PackageFile: APAlyzer_1.21.0.tar.gz PackageFileSize: 3.501 <A href="http://en.wikipedia.org/wiki/MiB" target="_blank">MiB</A>