Package: APAlyzer Version: 1.21.0 Command: rm -rf APAlyzer.buildbin-libdir && mkdir APAlyzer.buildbin-libdir && E:\biocbuild\bbs-3.21-bioc\R\bin\R.exe CMD INSTALL --build --library=APAlyzer.buildbin-libdir APAlyzer_1.21.0.tar.gz StartedAt: 2025-02-20 07:16:00 -0500 (Thu, 20 Feb 2025) EndedAt: 2025-02-20 07:16:51 -0500 (Thu, 20 Feb 2025) EllapsedTime: 51.4 seconds RetCode: 0 Status: OK PackageFile: APAlyzer_1.21.0.zip PackageFileSize: 3.582 <A href="http://en.wikipedia.org/wiki/MiB" target="_blank">MiB</A>