##############################################################################
##############################################################################
###
### Running command:
###
###   rm -rf APAlyzer.buildbin-libdir && mkdir APAlyzer.buildbin-libdir && E:\biocbuild\bbs-3.21-bioc\R\bin\R.exe CMD INSTALL --build --library=APAlyzer.buildbin-libdir APAlyzer_1.21.0.tar.gz
###
##############################################################################
##############################################################################


* installing *source* package 'APAlyzer' ...
** this is package 'APAlyzer' version '1.21.0'
** using staged installation
** R
** inst
** byte-compile and prepare package for lazy loading
** help
*** installing help indices
** building package indices
** installing vignettes
** testing if installed package can be loaded from temporary location
** testing if installed package can be loaded from final location
** testing if installed package keeps a record of temporary installation path
* MD5 sums
packaged installation of 'APAlyzer' as APAlyzer_1.21.0.zip
* DONE (APAlyzer)