Package: AHMassBank
Version: 1.7.0
Command: /Library/Frameworks/R.framework/Resources/bin/R CMD INSTALL AHMassBank
StartedAt: 2025-02-16 15:25:22 -0500 (Sun, 16 Feb 2025)
EndedAt: 2025-02-16 15:26:13 -0500 (Sun, 16 Feb 2025)
EllapsedTime: 50.5 seconds
RetCode: 0
Status: OK