Package: AHMassBank Version: 1.7.0 Command: /Library/Frameworks/R.framework/Resources/bin/R CMD check --install=check:AHMassBank.install-out.txt --library=/Library/Frameworks/R.framework/Resources/library --no-vignettes --timings AHMassBank_1.7.0.tar.gz StartedAt: 2025-02-04 18:50:59 -0500 (Tue, 04 Feb 2025) EndedAt: 2025-02-04 18:55:30 -0500 (Tue, 04 Feb 2025) EllapsedTime: 271.6 seconds RetCode: 0 Status: OK CheckDir: AHMassBank.Rcheck Warnings: 0