Package: AGDEX Version: 1.55.0 Command: /home/biocbuild/bbs-3.21-bioc/R/bin/R CMD build --keep-empty-dirs --no-resave-data AGDEX StartedAt: 2025-02-19 16:05:36 -0500 (Wed, 19 Feb 2025) EndedAt: 2025-02-19 16:05:58 -0500 (Wed, 19 Feb 2025) EllapsedTime: 22.0 seconds RetCode: 0 Status: OK PackageFile: AGDEX_1.55.0.tar.gz PackageFileSize: 487 <A href="http://en.wikipedia.org/wiki/KiB" target="_blank">KiB</A>