Package: AGDEX
Version: 1.55.0
Command: /Library/Frameworks/R.framework/Resources/bin/R CMD INSTALL AGDEX
StartedAt: 2025-02-19 15:27:19 -0500 (Wed, 19 Feb 2025)
EndedAt: 2025-02-19 15:27:39 -0500 (Wed, 19 Feb 2025)
EllapsedTime: 20.6 seconds
RetCode: 0
Status: OK