Package: AGDEX
Version: 1.55.0
Command: /Library/Frameworks/R.framework/Resources/bin/R CMD check --install=check:AGDEX.install-out.txt --library=/Library/Frameworks/R.framework/Resources/library --no-vignettes --timings AGDEX_1.55.0.tar.gz
StartedAt: 2025-02-19 18:46:22 -0500 (Wed, 19 Feb 2025)
EndedAt: 2025-02-19 18:47:40 -0500 (Wed, 19 Feb 2025)
EllapsedTime: 78.5 seconds
RetCode: 0
Status: OK
CheckDir: AGDEX.Rcheck
Warnings: 0