Package: AGDEX
Version: 1.55.0
Command: /Library/Frameworks/R.framework/Resources/bin/R CMD build --keep-empty-dirs --no-resave-data AGDEX
StartedAt: 2025-02-19 15:50:36 -0500 (Wed, 19 Feb 2025)
EndedAt: 2025-02-19 15:51:04 -0500 (Wed, 19 Feb 2025)
EllapsedTime: 27.4 seconds
RetCode: 0
Status: OK
PackageFile: AGDEX_1.55.0.tar.gz
PackageFileSize: 487.3 <A href="http://en.wikipedia.org/wiki/KiB" target="_blank">KiB</A>