Package: AGDEX
Version: 1.55.0
Command: rm -rf AGDEX.buildbin-libdir && mkdir AGDEX.buildbin-libdir && /Users/biocbuild/BBS/utils/build-universal.sh AGDEX_1.55.0.tar.gz /Library/Frameworks/R.framework/Resources/bin/R AGDEX.buildbin-libdir
StartedAt: 2025-02-20 00:19:44 -0500 (Thu, 20 Feb 2025)
EndedAt: 2025-02-20 00:20:12 -0500 (Thu, 20 Feb 2025)
EllapsedTime: 27.5 seconds
RetCode: 0
Status: OK
PackageFile: AGDEX_1.55.0.tgz
PackageFileSize: 559.7 <A href="http://en.wikipedia.org/wiki/KiB" target="_blank">KiB</A>