Package: AGDEX
Version: 1.55.0
Command: /home/biocbuild/R/R/bin/R CMD INSTALL AGDEX
StartedAt: 2025-01-29 19:58:23 -0000 (Wed, 29 Jan 2025)
EndedAt: 2025-01-29 19:58:43 -0000 (Wed, 29 Jan 2025)
EllapsedTime: 19.8 seconds
RetCode: 0
Status: OK