Package: AGDEX
Version: 1.55.0
Command: /home/biocbuild/R/R/bin/R CMD check --install=check:AGDEX.install-out.txt --library=/home/biocbuild/R/R/site-library --no-vignettes --timings AGDEX_1.55.0.tar.gz
StartedAt: 2025-01-28 03:27:26 -0000 (Tue, 28 Jan 2025)
EndedAt: 2025-01-28 03:28:45 -0000 (Tue, 28 Jan 2025)
EllapsedTime: 79.1 seconds
RetCode: 0
Status: OK
CheckDir: AGDEX.Rcheck
Warnings: 0