Package: ADaCGH2
Version: 2.47.0
Command: /home/biocbuild/bbs-3.21-bioc/R/bin/R CMD INSTALL ADaCGH2
StartedAt: 2025-02-19 15:55:10 -0500 (Wed, 19 Feb 2025)
EndedAt: 2025-02-19 15:55:11 -0500 (Wed, 19 Feb 2025)
EllapsedTime: 1.0 seconds
RetCode: 1
Status: ERROR