##############################################################################
##############################################################################
###
### Running command:
###
###   /home/biocbuild/bbs-3.21-bioc/R/bin/R CMD INSTALL ADaCGH2
###
##############################################################################
##############################################################################


* installing to library ‘/home/biocbuild/bbs-3.21-bioc/R/site-library’
ERROR: dependency ‘GLAD’ is not available for package ‘ADaCGH2’
Perhaps try a variation of:
install.packages('GLAD')
* removing ‘/home/biocbuild/bbs-3.21-bioc/R/site-library/ADaCGH2’