Package: ADaCGH2
Version: 2.47.0
Command: /home/biocbuild/bbs-3.21-bioc/R/bin/R CMD check --install=check:ADaCGH2.install-out.txt --library=/home/biocbuild/bbs-3.21-bioc/R/site-library --timings ADaCGH2_2.47.0.tar.gz
StartedAt: 2025-01-21 19:47:59 -0500 (Tue, 21 Jan 2025)
EndedAt: 2025-01-21 19:53:13 -0500 (Tue, 21 Jan 2025)
EllapsedTime: 314.6 seconds
RetCode: 0
Status: OK
CheckDir: ADaCGH2.Rcheck
Warnings: 0