Package: ADaCGH2 Version: 2.47.0 Command: /home/biocbuild/bbs-3.21-bioc/R/bin/R CMD build --keep-empty-dirs --no-resave-data ADaCGH2 StartedAt: 2025-02-18 16:03:28 -0500 (Tue, 18 Feb 2025) EndedAt: 2025-02-18 16:03:29 -0500 (Tue, 18 Feb 2025) EllapsedTime: 1.0 seconds RetCode: 1 Status: ERROR PackageFile: None PackageFileSize: NA