##############################################################################
##############################################################################
###
### Running command:
###
###   /home/biocbuild/bbs-3.21-bioc/R/bin/R CMD build --keep-empty-dirs --no-resave-data ADaCGH2
###
##############################################################################
##############################################################################


* checking for file ‘ADaCGH2/DESCRIPTION’ ... OK
* preparing ‘ADaCGH2’:
* checking DESCRIPTION meta-information ... OK
* cleaning src
* installing the package to build vignettes
      -----------------------------------
ERROR: dependency ‘GLAD’ is not available for package ‘ADaCGH2’
Perhaps try a variation of:
install.packages('GLAD')
* removing ‘/tmp/RtmpJcjNgT/Rinst54e4f3f978d17/ADaCGH2’
      -----------------------------------
ERROR: package installation failed