Package: ADAMgui
Version: 1.23.0
Command: /home/biocbuild/bbs-3.21-bioc/R/bin/R CMD INSTALL ADAMgui
StartedAt: 2025-02-19 15:40:35 -0500 (Wed, 19 Feb 2025)
EndedAt: 2025-02-19 15:41:03 -0500 (Wed, 19 Feb 2025)
EllapsedTime: 27.9 seconds
RetCode: 0
Status: OK