Package: ADAMgui
Version: 1.23.0
Command: /Library/Frameworks/R.framework/Resources/bin/R CMD INSTALL ADAMgui
StartedAt: 2025-02-19 15:43:06 -0500 (Wed, 19 Feb 2025)
EndedAt: 2025-02-19 15:43:44 -0500 (Wed, 19 Feb 2025)
EllapsedTime: 37.5 seconds
RetCode: 0
Status: OK