Package: ADAMgui
Version: 1.23.0
Command: /Library/Frameworks/R.framework/Resources/bin/R CMD check --install=check:ADAMgui.install-out.txt --library=/Library/Frameworks/R.framework/Resources/library --no-vignettes --timings ADAMgui_1.23.0.tar.gz
StartedAt: 2025-02-19 18:45:42 -0500 (Wed, 19 Feb 2025)
EndedAt: 2025-02-19 18:49:28 -0500 (Wed, 19 Feb 2025)
EllapsedTime: 225.9 seconds
RetCode: 0
Status: OK
CheckDir: ADAMgui.Rcheck
Warnings: 0