Package: ADAMgui Version: 1.23.0 Command: rm -rf ADAMgui.buildbin-libdir && mkdir ADAMgui.buildbin-libdir && /Users/biocbuild/BBS/utils/build-universal.sh ADAMgui_1.23.0.tar.gz /Library/Frameworks/R.framework/Resources/bin/R ADAMgui.buildbin-libdir StartedAt: 2025-02-20 00:19:44 -0500 (Thu, 20 Feb 2025) EndedAt: 2025-02-20 00:20:28 -0500 (Thu, 20 Feb 2025) EllapsedTime: 43.8 seconds RetCode: 0 Status: OK PackageFile: ADAMgui_1.23.0.tgz PackageFileSize: 917.8 <A href="http://en.wikipedia.org/wiki/KiB" target="_blank">KiB</A>