Package: ADAMgui
Version: 1.23.0
Command: /Library/Frameworks/R.framework/Resources/bin/R CMD INSTALL ADAMgui
StartedAt: 2025-02-19 15:28:35 -0500 (Wed, 19 Feb 2025)
EndedAt: 2025-02-19 15:28:47 -0500 (Wed, 19 Feb 2025)
EllapsedTime: 11.2 seconds
RetCode: 0
Status: OK