Package: ADAMgui Version: 1.23.0 Command: /Library/Frameworks/R.framework/Resources/bin/R CMD build --keep-empty-dirs --no-resave-data ADAMgui StartedAt: 2025-02-19 15:31:32 -0500 (Wed, 19 Feb 2025) EndedAt: 2025-02-19 15:31:47 -0500 (Wed, 19 Feb 2025) EllapsedTime: 15.2 seconds RetCode: 0 Status: OK PackageFile: ADAMgui_1.23.0.tar.gz PackageFileSize: 1.745 <A href="http://en.wikipedia.org/wiki/MiB" target="_blank">MiB</A>