Package: ADAMgui Version: 1.23.0 Command: rm -rf ADAMgui.buildbin-libdir && mkdir ADAMgui.buildbin-libdir && /Users/biocbuild/BBS/utils/build-universal.sh ADAMgui_1.23.0.tar.gz /Library/Frameworks/R.framework/Resources/bin/R ADAMgui.buildbin-libdir StartedAt: 2025-02-19 22:12:39 -0500 (Wed, 19 Feb 2025) EndedAt: 2025-02-19 22:12:51 -0500 (Wed, 19 Feb 2025) EllapsedTime: 12.3 seconds RetCode: 0 Status: OK PackageFile: ADAMgui_1.23.0.tgz PackageFileSize: 918.3 <A href="http://en.wikipedia.org/wiki/KiB" target="_blank">KiB</A>