Package: simpleSingleCell
Version: 1.30.0
Maintainer: Aaron Lun
MaintainerEmail: infinite.monkeys.with.keyboards at gmail.com
git_url: https://git.bioconductor.org/packages/simpleSingleCell
git_branch: RELEASE_3_20
git_last_commit: d4956ae
git_last_commit_date: 2024-10-29 10:02:51 -0500 (Tue, 29 Oct 2024)