Package: seqpac
Version: 1.6.0
Command: F:\biocbuild\bbs-3.20-bioc\R\bin\R.exe CMD INSTALL seqpac
StartedAt: 2025-02-18 13:01:25 -0500 (Tue, 18 Feb 2025)
EndedAt: 2025-02-18 13:01:50 -0500 (Tue, 18 Feb 2025)
EllapsedTime: 24.8 seconds
RetCode: 0
Status: OK