Package: seqpac Version: 1.6.0 Command: chmod a+r seqpac -R && F:\biocbuild\bbs-3.20-bioc\R\bin\R.exe CMD build --keep-empty-dirs --no-resave-data seqpac StartedAt: 2025-02-18 13:15:37 -0500 (Tue, 18 Feb 2025) EndedAt: 2025-02-18 13:19:17 -0500 (Tue, 18 Feb 2025) EllapsedTime: 219.9 seconds RetCode: 0 Status: OK PackageFile: seqpac_1.6.0.tar.gz PackageFileSize: 2.587 <A href="http://en.wikipedia.org/wiki/MiB" target="_blank">MiB</A>