Package: recountWorkflow
Version: 1.30.0
Maintainer: Leonardo Collado-Torres
MaintainerEmail: lcolladotor at gmail.com
git_url: https://git.bioconductor.org/packages/recountWorkflow
git_branch: RELEASE_3_20
git_last_commit: 71c82c8
git_last_commit_date: 2024-10-29 10:02:34 -0500 (Tue, 29 Oct 2024)