Package: ExpressionNormalizationWorkflow Version: 1.32.0 Command: F:\biocbuild\bbs-3.20-bioc\R\bin\R.exe CMD INSTALL ExpressionNormalizationWorkflow StartedAt: 2025-02-18 13:01:33 -0500 (Tue, 18 Feb 2025) EndedAt: 2025-02-18 13:02:01 -0500 (Tue, 18 Feb 2025) EllapsedTime: 27.7 seconds RetCode: 0 Status: OK