Package: ExpressionNormalizationWorkflow
Version: 1.32.0
Command: chmod a+r ExpressionNormalizationWorkflow -R && F:\biocbuild\bbs-3.20-bioc\R\bin\R.exe CMD build --keep-empty-dirs --no-resave-data ExpressionNormalizationWorkflow
StartedAt: 2025-02-18 13:06:35 -0500 (Tue, 18 Feb 2025)
EndedAt: 2025-02-18 13:13:56 -0500 (Tue, 18 Feb 2025)
EllapsedTime: 440.4 seconds
RetCode: 0
Status: OK
PackageFile: ExpressionNormalizationWorkflow_1.32.0.tar.gz
PackageFileSize: 2.11 <A href="http://en.wikipedia.org/wiki/MiB" target="_blank">MiB</A>