Package: ExpressionNormalizationWorkflow
Version: 1.31.0
Command: chmod a+r ExpressionNormalizationWorkflow -R && F:\biocbuild\bbs-3.20-bioc\R\bin\R.exe CMD build --keep-empty-dirs --no-resave-data ExpressionNormalizationWorkflow
StartedAt: 2024-06-14 13:13:20 -0400 (Fri, 14 Jun 2024)
EndedAt: 2024-06-14 13:22:14 -0400 (Fri, 14 Jun 2024)
EllapsedTime: 533.6 seconds
RetCode: 0
Status: OK
PackageFile: ExpressionNormalizationWorkflow_1.31.0.tar.gz
PackageFileSize: 2.11 <A href="http://en.wikipedia.org/wiki/MiB" target="_blank">MiB</A>