Package: ExpHunterSuite
Version: 1.14.0
Command: F:\biocbuild\bbs-3.20-bioc\R\bin\R.exe CMD INSTALL ExpHunterSuite
StartedAt: 2025-02-18 13:02:35 -0500 (Tue, 18 Feb 2025)
EndedAt: 2025-02-18 13:03:52 -0500 (Tue, 18 Feb 2025)
EllapsedTime: 77.0 seconds
RetCode: 0
Status: OK